Package: coRdon Version: 1.26.0 Command: /home/biocbuild/bbs-3.21-bioc/R/bin/R CMD build --keep-empty-dirs --no-resave-data coRdon StartedAt: 2025-10-15 16:54:35 -0400 (Wed, 15 Oct 2025) EndedAt: 2025-10-15 16:55:20 -0400 (Wed, 15 Oct 2025) EllapsedTime: 45.0 seconds RetCode: 0 Status: OK PackageFile: coRdon_1.26.0.tar.gz PackageFileSize: 2.2 MiB