Package: coMethDMR Version: 1.14.0 Command: /home/biocbuild/R/R/bin/R CMD INSTALL coMethDMR StartedAt: 2025-11-10 21:52:21 -0000 (Mon, 10 Nov 2025) EndedAt: 2025-11-10 21:53:27 -0000 (Mon, 10 Nov 2025) EllapsedTime: 65.5 seconds RetCode: 0 Status: OK