Package: coMethDMR Version: 1.14.0 Command: /home/biocbuild/bbs-3.22-bioc/R/bin/R CMD INSTALL coMethDMR StartedAt: 2025-11-06 15:45:11 -0500 (Thu, 06 Nov 2025) EndedAt: 2025-11-06 15:46:00 -0500 (Thu, 06 Nov 2025) EllapsedTime: 48.6 seconds RetCode: 0 Status: OK