Package: coMethDMR Version: 1.14.0 Command: /home/biocbuild/bbs-3.22-bioc/R/bin/R CMD check --install=check:coMethDMR.install-out.txt --library=/home/biocbuild/bbs-3.22-bioc/R/site-library --timings coMethDMR_1.14.0.tar.gz StartedAt: 2025-11-09 22:29:34 -0500 (Sun, 09 Nov 2025) EndedAt: 2025-11-09 22:43:23 -0500 (Sun, 09 Nov 2025) EllapsedTime: 828.7 seconds RetCode: 0 Status: OK CheckDir: coMethDMR.Rcheck Warnings: 0