Package: coMethDMR Version: 1.14.0 Command: /Library/Frameworks/R.framework/Resources/bin/R CMD check --install=check:coMethDMR.install-out.txt --library=/Library/Frameworks/R.framework/Resources/library --no-vignettes --timings coMethDMR_1.14.0.tar.gz StartedAt: 2025-10-31 19:09:18 -0400 (Fri, 31 Oct 2025) EndedAt: 2025-10-31 19:13:29 -0400 (Fri, 31 Oct 2025) EllapsedTime: 251.0 seconds RetCode: 0 Status: OK CheckDir: coMethDMR.Rcheck Warnings: 0