Package: coMET Version: 1.40.0 Command: /Library/Frameworks/R.framework/Resources/bin/R CMD INSTALL coMET StartedAt: 2025-04-21 15:30:16 -0400 (Mon, 21 Apr 2025) EndedAt: 2025-04-21 15:30:38 -0400 (Mon, 21 Apr 2025) EllapsedTime: 22.0 seconds RetCode: 0 Status: OK