Package: coMET Version: 1.40.0 Command: /Library/Frameworks/R.framework/Resources/bin/R CMD build --keep-empty-dirs --no-resave-data coMET StartedAt: 2025-04-21 15:58:20 -0400 (Mon, 21 Apr 2025) EndedAt: 2025-04-21 15:59:59 -0400 (Mon, 21 Apr 2025) EllapsedTime: 99.2 seconds RetCode: 0 Status: OK PackageFile: coMET_1.40.0.tar.gz PackageFileSize: 21.83 MiB