Package: coGPS Version: 1.53.0 Command: /home/biocbuild/R/R/bin/R CMD check --install=check:coGPS.install-out.txt --library=/home/biocbuild/R/R/site-library --no-vignettes --timings coGPS_1.53.0.tar.gz StartedAt: 2025-10-21 06:43:14 -0000 (Tue, 21 Oct 2025) EndedAt: 2025-10-21 06:43:40 -0000 (Tue, 21 Oct 2025) EllapsedTime: 26.0 seconds RetCode: 0 Status: OK CheckDir: coGPS.Rcheck Warnings: 0