Package: cnvGSA Version: 1.54.0 Command: /home/biocbuild/R/R/bin/R CMD check --install=check:cnvGSA.install-out.txt --library=/home/biocbuild/R/R/site-library --no-vignettes --timings cnvGSA_1.54.0.tar.gz StartedAt: 2025-11-21 09:13:27 -0000 (Fri, 21 Nov 2025) EndedAt: 2025-11-21 09:14:48 -0000 (Fri, 21 Nov 2025) EllapsedTime: 81.1 seconds RetCode: 0 Status: OK CheckDir: cnvGSA.Rcheck Warnings: 0