Package: cn.farms Version: 1.56.2 Command: /home/biocbuild/bbs-3.21-bioc/R/bin/R CMD check --install=check:cn.farms.install-out.txt --library=/home/biocbuild/bbs-3.21-bioc/R/site-library --timings cn.farms_1.56.2.tar.gz StartedAt: 2025-10-12 21:55:41 -0400 (Sun, 12 Oct 2025) EndedAt: 2025-10-12 21:59:09 -0400 (Sun, 12 Oct 2025) EllapsedTime: 208.4 seconds RetCode: 0 Status: OK CheckDir: cn.farms.Rcheck Warnings: 0