Package: cn.farms Version: 1.58.0 Command: /Library/Frameworks/R.framework/Resources/bin/R CMD check --install=check:cn.farms.install-out.txt --library=/Library/Frameworks/R.framework/Resources/library --no-vignettes --timings cn.farms_1.58.0.tar.gz StartedAt: 2025-10-31 20:18:14 -0400 (Fri, 31 Oct 2025) EndedAt: 2025-10-31 20:21:59 -0400 (Fri, 31 Oct 2025) EllapsedTime: 225.4 seconds RetCode: 0 Status: OK CheckDir: cn.farms.Rcheck Warnings: 0