Package: cn.farms Version: 1.58.0 Command: /Library/Frameworks/R.framework/Resources/bin/R CMD build --keep-empty-dirs --no-resave-data cn.farms StartedAt: 2025-10-31 16:35:42 -0400 (Fri, 31 Oct 2025) EndedAt: 2025-10-31 16:36:39 -0400 (Fri, 31 Oct 2025) EllapsedTime: 57.0 seconds RetCode: 0 Status: OK PackageFile: cn.farms_1.58.0.tar.gz PackageFileSize: 2.29 MiB