Package: cn.farms Version: 1.56.2 Command: /home/biocbuild/R/R/bin/R CMD INSTALL cn.farms StartedAt: 2025-10-13 20:52:54 -0000 (Mon, 13 Oct 2025) EndedAt: 2025-10-13 20:53:40 -0000 (Mon, 13 Oct 2025) EllapsedTime: 45.8 seconds RetCode: 0 Status: OK