Package: cn.farms Version: 1.58.0 Command: rm -rf cn.farms.buildbin-libdir && mkdir cn.farms.buildbin-libdir && /Users/biocbuild/BBS/utils/build-universal.sh cn.farms_1.58.0.tar.gz /Library/Frameworks/R.framework/Resources/bin/R cn.farms.buildbin-libdir StartedAt: 2025-10-31 23:02:11 -0400 (Fri, 31 Oct 2025) EndedAt: 2025-10-31 23:02:26 -0400 (Fri, 31 Oct 2025) EllapsedTime: 15.4 seconds RetCode: 0 Status: OK PackageFile: cn.farms_1.58.0.tgz PackageFileSize: 2.468 MiB