Package: clusterStab Version: 1.82.0 Command: /home/biocbuild/bbs-3.22-bioc/R/bin/R CMD build --keep-empty-dirs --no-resave-data --md5 clusterStab StartedAt: 2025-11-06 16:54:21 -0500 (Thu, 06 Nov 2025) EndedAt: 2025-11-06 16:54:34 -0500 (Thu, 06 Nov 2025) EllapsedTime: 13.0 seconds RetCode: 0 Status: OK PackageFile: clusterStab_1.82.0.tar.gz PackageFileSize: 186.1 KiB