Package: clusterProfiler Version: 4.16.0 Command: /home/biocbuild/R/R/bin/R CMD build --keep-empty-dirs --no-resave-data clusterProfiler StartedAt: 2025-10-13 23:41:08 -0000 (Mon, 13 Oct 2025) EndedAt: 2025-10-13 23:41:45 -0000 (Mon, 13 Oct 2025) EllapsedTime: 37.0 seconds RetCode: 0 Status: OK PackageFile: clusterProfiler_4.16.0.tar.gz PackageFileSize: 611.9 KiB