Package: clstutils Version: 1.58.0 Command: /home/biocbuild/bbs-3.22-bioc/R/bin/R CMD INSTALL clstutils StartedAt: 2025-11-14 15:08:10 -0500 (Fri, 14 Nov 2025) EndedAt: 2025-11-14 15:08:51 -0500 (Fri, 14 Nov 2025) EllapsedTime: 40.5 seconds RetCode: 0 Status: OK