Package: cliqueMS Version: 1.23.0 Command: /home/biocbuild/R/R/bin/R CMD check --install=check:cliqueMS.install-out.txt --library=/home/biocbuild/R/R/site-library --no-vignettes --timings cliqueMS_1.23.0.tar.gz StartedAt: 2025-10-21 06:34:46 -0000 (Tue, 21 Oct 2025) EndedAt: 2025-10-21 06:42:15 -0000 (Tue, 21 Oct 2025) EllapsedTime: 449.4 seconds RetCode: 0 Status: OK CheckDir: cliqueMS.Rcheck Warnings: 0