Package: cliqueMS Version: 1.23.0 Command: rm -rf cliqueMS.buildbin-libdir && mkdir cliqueMS.buildbin-libdir && F:\biocbuild\bbs-3.22-bioc\R\bin\R.exe CMD INSTALL --build --library=cliqueMS.buildbin-libdir cliqueMS_1.23.0.tar.gz StartedAt: 2025-08-15 09:58:26 -0400 (Fri, 15 Aug 2025) EndedAt: 2025-08-15 09:59:56 -0400 (Fri, 15 Aug 2025) EllapsedTime: 90.1 seconds RetCode: 0 Status: OK PackageFile: cliqueMS_1.23.0.zip PackageFileSize: 1.339 MiB