Package: cliqueMS Version: 1.22.0 Command: rm -rf cliqueMS.buildbin-libdir && mkdir cliqueMS.buildbin-libdir && E:\biocbuild\bbs-3.21-bioc\R\bin\R.exe CMD INSTALL --build --library=cliqueMS.buildbin-libdir cliqueMS_1.22.0.tar.gz StartedAt: 2025-08-15 09:00:12 -0400 (Fri, 15 Aug 2025) EndedAt: 2025-08-15 09:01:39 -0400 (Fri, 15 Aug 2025) EllapsedTime: 87.1 seconds RetCode: 0 Status: OK PackageFile: cliqueMS_1.22.0.zip PackageFileSize: 1.338 MiB