Package: cliqueMS Version: 1.22.0 Command: rm -rf cliqueMS.buildbin-libdir && mkdir cliqueMS.buildbin-libdir && /Users/biocbuild/BBS/utils/build-universal.sh cliqueMS_1.22.0.tar.gz /Library/Frameworks/R.framework/Resources/bin/R cliqueMS.buildbin-libdir StartedAt: 2025-09-26 13:10:31 -0400 (Fri, 26 Sep 2025) EndedAt: 2025-09-26 13:13:46 -0400 (Fri, 26 Sep 2025) EllapsedTime: 195.0 seconds RetCode: 0 Status: OK PackageFile: cliqueMS_1.22.0.tgz PackageFileSize: 1.042 MiB