Package: cliqueMS Version: 1.24.0 Command: /Library/Frameworks/R.framework/Resources/bin/R CMD INSTALL cliqueMS StartedAt: 2025-11-10 15:24:11 -0500 (Mon, 10 Nov 2025) EndedAt: 2025-11-10 15:24:35 -0500 (Mon, 10 Nov 2025) EllapsedTime: 24.3 seconds RetCode: 0 Status: OK