Package: cliqueMS Version: 1.24.0 Command: /Library/Frameworks/R.framework/Resources/bin/R CMD build --keep-empty-dirs --no-resave-data cliqueMS StartedAt: 2025-11-10 15:57:13 -0500 (Mon, 10 Nov 2025) EndedAt: 2025-11-10 15:57:48 -0500 (Mon, 10 Nov 2025) EllapsedTime: 34.4 seconds RetCode: 0 Status: OK PackageFile: cliqueMS_1.24.0.tar.gz PackageFileSize: 556 KiB