Package: clippda Version: 1.58.0 Command: /home/biocbuild/R/R/bin/R CMD check --install=check:clippda.install-out.txt --library=/home/biocbuild/R/R/site-library --no-vignettes --timings clippda_1.58.0.tar.gz StartedAt: 2025-10-14 07:32:12 -0000 (Tue, 14 Oct 2025) EndedAt: 2025-10-14 07:36:35 -0000 (Tue, 14 Oct 2025) EllapsedTime: 263.2 seconds RetCode: 0 Status: OK CheckDir: clippda.Rcheck Warnings: 0