Package: clippda Version: 1.58.0 Command: /Library/Frameworks/R.framework/Resources/bin/R CMD check --install=check:clippda.install-out.txt --library=/Library/Frameworks/R.framework/Resources/library --no-vignettes --timings clippda_1.58.0.tar.gz StartedAt: 2025-10-14 16:19:46 -0400 (Tue, 14 Oct 2025) EndedAt: 2025-10-14 16:24:28 -0400 (Tue, 14 Oct 2025) EllapsedTime: 281.2 seconds RetCode: 0 Status: OK CheckDir: clippda.Rcheck Warnings: 0