Package: clippda Version: 1.58.0 Command: rm -rf clippda.buildbin-libdir && mkdir clippda.buildbin-libdir && /Users/biocbuild/BBS/utils/build-universal.sh clippda_1.58.0.tar.gz /Library/Frameworks/R.framework/Resources/bin/R clippda.buildbin-libdir StartedAt: 2025-10-15 17:52:58 -0400 (Wed, 15 Oct 2025) EndedAt: 2025-10-15 17:53:09 -0400 (Wed, 15 Oct 2025) EllapsedTime: 10.4 seconds RetCode: 0 Status: OK PackageFile: clippda_1.58.0.tgz PackageFileSize: 1.746 MiB