Package: clevRvis Version: 1.10.0 Command: /home/biocbuild/R/R/bin/R CMD INSTALL clevRvis StartedAt: 2025-11-17 21:15:08 -0000 (Mon, 17 Nov 2025) EndedAt: 2025-11-17 21:15:39 -0000 (Mon, 17 Nov 2025) EllapsedTime: 30.9 seconds RetCode: 0 Status: OK