Package: clevRvis Version: 1.10.0 Command: /home/biocbuild/R/R/bin/R CMD build --keep-empty-dirs --no-resave-data clevRvis StartedAt: 2025-11-18 00:31:57 -0000 (Tue, 18 Nov 2025) EndedAt: 2025-11-18 00:32:35 -0000 (Tue, 18 Nov 2025) EllapsedTime: 38.0 seconds RetCode: 0 Status: OK PackageFile: clevRvis_1.10.0.tar.gz PackageFileSize: 2.224 MiB