Package: clevRvis Version: 1.9.0 Command: rm -rf clevRvis.buildbin-libdir && mkdir clevRvis.buildbin-libdir && F:\biocbuild\bbs-3.22-bioc\R\bin\R.exe CMD INSTALL --build --library=clevRvis.buildbin-libdir clevRvis_1.9.0.tar.gz StartedAt: 2025-08-15 09:58:18 -0400 (Fri, 15 Aug 2025) EndedAt: 2025-08-15 09:58:53 -0400 (Fri, 15 Aug 2025) EllapsedTime: 35.1 seconds RetCode: 0 Status: OK PackageFile: clevRvis_1.9.0.zip PackageFileSize: 2.251 MiB