Package: clevRvis Version: 1.10.0 Command: /Library/Frameworks/R.framework/Resources/bin/R CMD check --install=check:clevRvis.install-out.txt --library=/Library/Frameworks/R.framework/Resources/library --no-vignettes --timings clevRvis_1.10.0.tar.gz StartedAt: 2025-10-31 20:14:59 -0400 (Fri, 31 Oct 2025) EndedAt: 2025-10-31 20:16:24 -0400 (Fri, 31 Oct 2025) EllapsedTime: 84.8 seconds RetCode: 0 Status: OK CheckDir: clevRvis.Rcheck Warnings: 0