Package: clevRvis Version: 1.10.0 Command: /Library/Frameworks/R.framework/Resources/bin/R CMD build --keep-empty-dirs --no-resave-data clevRvis StartedAt: 2025-11-03 16:29:16 -0500 (Mon, 03 Nov 2025) EndedAt: 2025-11-03 16:29:50 -0500 (Mon, 03 Nov 2025) EllapsedTime: 34.2 seconds RetCode: 0 Status: OK PackageFile: clevRvis_1.10.0.tar.gz PackageFileSize: 2.502 MiB