Package: clevRvis Version: 1.10.0 Command: /Library/Frameworks/R.framework/Resources/bin/R CMD build --keep-empty-dirs --no-resave-data clevRvis StartedAt: 2025-11-10 15:56:58 -0500 (Mon, 10 Nov 2025) EndedAt: 2025-11-10 15:57:09 -0500 (Mon, 10 Nov 2025) EllapsedTime: 11.1 seconds RetCode: 0 Status: OK PackageFile: clevRvis_1.10.0.tar.gz PackageFileSize: 2.502 MiB