Package: cleaver Version: 1.46.0 Command: /home/biocbuild/bbs-3.21-bioc/R/bin/R CMD INSTALL cleaver StartedAt: 2025-10-12 15:23:33 -0400 (Sun, 12 Oct 2025) EndedAt: 2025-10-12 15:23:42 -0400 (Sun, 12 Oct 2025) EllapsedTime: 9.0 seconds RetCode: 0 Status: OK