Package: cleaver Version: 1.46.0 Command: /Library/Frameworks/R.framework/Resources/bin/R CMD check --install=check:cleaver.install-out.txt --library=/Library/Frameworks/R.framework/Resources/library --no-vignettes --timings cleaver_1.46.0.tar.gz StartedAt: 2025-10-14 16:18:21 -0400 (Tue, 14 Oct 2025) EndedAt: 2025-10-14 16:19:46 -0400 (Tue, 14 Oct 2025) EllapsedTime: 85.8 seconds RetCode: 0 Status: OK CheckDir: cleaver.Rcheck Warnings: 0