Package: cigarillo Version: 1.0.0 Command: /home/biocbuild/R/R/bin/R CMD check --install=check:cigarillo.install-out.txt --library=/home/biocbuild/R/R/site-library --no-vignettes --timings cigarillo_1.0.0.tar.gz StartedAt: 2025-11-14 07:55:35 -0000 (Fri, 14 Nov 2025) EndedAt: 2025-11-14 07:57:36 -0000 (Fri, 14 Nov 2025) EllapsedTime: 120.1 seconds RetCode: 0 Status: OK CheckDir: cigarillo.Rcheck Warnings: 0