Package: cigarillo Version: 1.0.0 Command: /home/biocbuild/R/R/bin/R CMD build --keep-empty-dirs --no-resave-data cigarillo StartedAt: 2025-11-14 00:32:48 -0000 (Fri, 14 Nov 2025) EndedAt: 2025-11-14 00:33:10 -0000 (Fri, 14 Nov 2025) EllapsedTime: 22.0 seconds RetCode: 0 Status: OK PackageFile: cigarillo_1.0.0.tar.gz PackageFileSize: 276.8 KiB