Package: cigarillo Version: 1.0.0 Command: /home/biocbuild/bbs-3.22-bioc/R/bin/R CMD check --install=check:cigarillo.install-out.txt --library=/home/biocbuild/bbs-3.22-bioc/R/site-library --timings cigarillo_1.0.0.tar.gz StartedAt: 2025-11-09 22:17:12 -0500 (Sun, 09 Nov 2025) EndedAt: 2025-11-09 22:18:58 -0500 (Sun, 09 Nov 2025) EllapsedTime: 105.1 seconds RetCode: 0 Status: OK CheckDir: cigarillo.Rcheck Warnings: 0