Package: cigarillo Version: 1.0.0 Command: /Library/Frameworks/R.framework/Resources/bin/R CMD check --install=check:cigarillo.install-out.txt --library=/Library/Frameworks/R.framework/Resources/library --no-vignettes --timings cigarillo_1.0.0.tar.gz StartedAt: 2025-11-03 20:11:25 -0500 (Mon, 03 Nov 2025) EndedAt: 2025-11-03 20:13:21 -0500 (Mon, 03 Nov 2025) EllapsedTime: 116.5 seconds RetCode: 0 Status: OK CheckDir: cigarillo.Rcheck Warnings: 0