Package: cigarillo Version: 1.0.0 Command: /Library/Frameworks/R.framework/Resources/bin/R CMD build --keep-empty-dirs --no-resave-data cigarillo StartedAt: 2025-11-10 15:56:16 -0500 (Mon, 10 Nov 2025) EndedAt: 2025-11-10 15:56:24 -0500 (Mon, 10 Nov 2025) EllapsedTime: 8.1 seconds RetCode: 0 Status: OK PackageFile: cigarillo_1.0.0.tar.gz PackageFileSize: 251.2 KiB