Package: cigarillo Version: 1.0.0 Maintainer: Hervé Pagès MaintainerEmail: hpages.on.github at gmail.com git_url: https://git.bioconductor.org/packages/cigarillo git_branch: RELEASE_3_22 git_last_commit: 8775adf git_last_commit_date: 2025-10-29 11:39:18 -0500 (Wed, 29 Oct 2025)