Package: chromVAR Version: 1.31.1 Command: /home/biocbuild/R/R/bin/R CMD INSTALL chromVAR StartedAt: 2025-10-23 21:18:27 -0000 (Thu, 23 Oct 2025) EndedAt: 2025-10-23 21:19:58 -0000 (Thu, 23 Oct 2025) EllapsedTime: 91.6 seconds RetCode: 0 Status: OK