Package: chromVAR Version: 1.31.1 Command: /home/biocbuild/R/R/bin/R CMD build --keep-empty-dirs --no-resave-data chromVAR StartedAt: 2025-10-20 22:43:01 -0000 (Mon, 20 Oct 2025) EndedAt: 2025-10-20 22:47:04 -0000 (Mon, 20 Oct 2025) EllapsedTime: 242.8 seconds RetCode: 0 Status: OK PackageFile: chromVAR_1.31.1.tar.gz PackageFileSize: 441 KiB