Package: chromVAR Version: 1.32.0 Command: /home/biocbuild/bbs-3.22-bioc/R/bin/R CMD check --install=check:chromVAR.install-out.txt --library=/home/biocbuild/bbs-3.22-bioc/R/site-library --timings chromVAR_1.32.0.tar.gz StartedAt: 2025-11-09 22:16:15 -0500 (Sun, 09 Nov 2025) EndedAt: 2025-11-09 22:23:42 -0500 (Sun, 09 Nov 2025) EllapsedTime: 446.5 seconds RetCode: 0 Status: OK CheckDir: chromVAR.Rcheck Warnings: 0