Package: chromVAR Version: 1.32.0 Command: /Library/Frameworks/R.framework/Resources/bin/R CMD INSTALL chromVAR StartedAt: 2025-11-03 15:48:08 -0500 (Mon, 03 Nov 2025) EndedAt: 2025-11-03 15:49:31 -0500 (Mon, 03 Nov 2025) EllapsedTime: 82.7 seconds RetCode: 0 Status: OK