Package: chromVAR Version: 1.32.0 Command: /Library/Frameworks/R.framework/Resources/bin/R CMD check --install=check:chromVAR.install-out.txt --library=/Library/Frameworks/R.framework/Resources/library --no-vignettes --timings chromVAR_1.32.0.tar.gz StartedAt: 2025-11-03 20:11:02 -0500 (Mon, 03 Nov 2025) EndedAt: 2025-11-03 20:17:59 -0500 (Mon, 03 Nov 2025) EllapsedTime: 416.7 seconds RetCode: 0 Status: OK CheckDir: chromVAR.Rcheck Warnings: 0