Package: chromVAR Version: 1.32.0 Command: /Library/Frameworks/R.framework/Resources/bin/R CMD build --keep-empty-dirs --no-resave-data chromVAR StartedAt: 2025-11-03 16:28:20 -0500 (Mon, 03 Nov 2025) EndedAt: 2025-11-03 16:31:03 -0500 (Mon, 03 Nov 2025) EllapsedTime: 163.3 seconds RetCode: 0 Status: OK PackageFile: chromVAR_1.32.0.tar.gz PackageFileSize: 506 KiB