Package: chopsticks Version: 1.75.0 Command: F:\biocbuild\bbs-3.22-bioc\R\bin\R.exe CMD INSTALL chopsticks StartedAt: 2025-08-14 15:22:46 -0400 (Thu, 14 Aug 2025) EndedAt: 2025-08-14 15:23:59 -0400 (Thu, 14 Aug 2025) EllapsedTime: 73.5 seconds RetCode: 0 Status: OK