Package: chopsticks Version: 1.76.0 Command: /home/biocbuild/bbs-3.22-bioc/R/bin/R CMD INSTALL chopsticks StartedAt: 2025-11-06 15:04:43 -0500 (Thu, 06 Nov 2025) EndedAt: 2025-11-06 15:04:58 -0500 (Thu, 06 Nov 2025) EllapsedTime: 15.2 seconds RetCode: 0 Status: OK