Package: chopsticks Version: 1.76.0 Command: /home/biocbuild/bbs-3.22-bioc/R/bin/R CMD check --install=check:chopsticks.install-out.txt --library=/home/biocbuild/bbs-3.22-bioc/R/site-library --timings chopsticks_1.76.0.tar.gz StartedAt: 2025-11-06 22:01:31 -0500 (Thu, 06 Nov 2025) EndedAt: 2025-11-06 22:02:31 -0500 (Thu, 06 Nov 2025) EllapsedTime: 60.0 seconds RetCode: 0 Status: WARNINGS CheckDir: chopsticks.Rcheck Warnings: 3