Package: chipseq Version: 1.60.0 Command: /home/biocbuild/bbs-3.22-bioc/R/bin/R CMD INSTALL chipseq StartedAt: 2025-11-14 15:56:06 -0500 (Fri, 14 Nov 2025) EndedAt: 2025-11-14 15:56:37 -0500 (Fri, 14 Nov 2025) EllapsedTime: 30.2 seconds RetCode: 0 Status: OK